BEGIN:VCALENDAR
VERSION:2.0
PRODID:-//hacksw/handcal//NONSGML v1.0//EN
BEGIN:VEVENT
SUMMARY:Fete de la nature de Balma
UID:0720ff3c-81ea-4551-9201-e73bd8a06dce
DTSTART:20260523T080000Z
DTEND:20260523T160000Z
LOCATION:Localisation Parc de Lagarde 31130 balma
CATEGORIES:Sportif
STATUS:
DESCRIPTION:<p>20 stands dont celui du CRB (atelier velo,
 renseignements, jeux pour enfants, tour du clocher 10 kms a velo,
 decouverte des pistes cyclables et des jardins partages).<br>
 La fete
 du rucher aura lieu en meme temps.<br>
 Nous aurons de l'eau et de
 l'electricite. S'il pleut solution de repli salle de l'odyssee qui
 sera decretee a 8h30.<br>
 l'installation se fera a 10H jusqu'a 12H30.
 Acces a un food truck( des repas seront offerts aux organisateurs),
 ouverture au public a 13h donc nous restons sur place.<br>
 le
 parcours velo ouvert aux enfants a partir de 12 ans a condition
 qu'ils soient accompagnes demarre a 15 heures. Jacques BRAVO est le
 responsable assiste d'isabelle et Erick plus Marie Annick. Nous
 aurons au moins un barnum, 2 tables et des chaises. Un parking velo
 securise sera mis en place a cote de notre stand.<br>
 l'evenement
 s'inscrit dans la demarche eco responsable a laquelle nous
 adherons<br>
 une affiche va etre realisee par la mairie pour
 promouvoir l'evenement.<br>
 nous attendons la participation d'autres
 adherents pour soutenir le projet, amener une petite contribution et
 federer le club.<br>
  </p>
URL;VALUE=URI:https://www.cyclo-rando-balma.fr/evenements/2026/05/23/fete-de-la-nature-de-balma-2431986
END:VEVENT
END:VCALENDAR
