BEGIN:VCALENDAR
VERSION:2.0
PRODID:-//hacksw/handcal//NONSGML v1.0//EN
BEGIN:VEVENT
SUMMARY:Fete de la nature de balma
UID:e818cf6e-ec33-4318-9b20-4439c8ebf535
DTSTART:20260323T090000Z
DTEND:20260323T170000Z
LOCATION:Localisation Parc de Lagarde 31130 balma
CATEGORIES:Sportif
STATUS:
URL;VALUE=URI:https://www.cyclo-rando-balma.fr/evenements/2026/03/23/fete-de-la-nature-de-balma-2431979
END:VEVENT
END:VCALENDAR
